BEGIN:VCALENDAR
VERSION:2.0
PRODID:-//Tukios.com/
BEGIN:VEVENT
UID:1634ad9b-3c81-42df-abb7-c771ae93ca7f@www.mcnamara-sparrell.com
DTSTAMP:20260419T142054Z
DTSTART:20260425T140000Z
DTEND:20260425T150000Z
SUMMARY:Mass
DESCRIPTION:
URL:https://www.mcnamara-sparrell.com/obituaries/lauren-curley
LOCATION:St. Anthony of Padua Church, Cohasset 10 Summer Street  Cohasset 
	MA 02025
GEO:42.236759;-70.7978338
END:VEVENT
END:VCALENDAR