BEGIN:VCALENDAR
VERSION:2.0
PRODID:-//Tukios.com/
BEGIN:VEVENT
UID:2566f053-c05f-484c-ba29-6af974d9a4e7@www.mcnamara-sparrell.com
DTSTAMP:20260426T012504Z
DTSTART:20260501T160000Z
DTEND:20260501T170000Z
SUMMARY:Mass
DESCRIPTION:
URL:https://www.mcnamara-sparrell.com/obituaries/robert-colby
LOCATION: 10 Summer Street  Cohasset MA 02025
GEO:42.236759;-70.7978338
END:VEVENT
END:VCALENDAR